BEGIN:VCALENDAR
PRODID:-//github.com/rianjs/ical.net//NONSGML ical.net 4.0//EN
VERSION:2.0
BEGIN:VEVENT
DESCRIPTION:Wir treffen uns jeden 1. Donnerstag eines Monats (außer August
 ) um 19:00 Uhr im Gasthaus Belfort in Kaufbeuren\, Mindelheimer Str. 35. 
 Diesmal mit Vortrag zu den Rechten und Pflichten des Radfahrers.\nhttps:/
 /touren-termine.adfc.de/radveranstaltung/114819-adfcstammtisch-mit-vortra
 g-rechtepflichten
DTEND:20250102T210000Z
DTSTAMP:20260419T155606Z
DTSTART:20250102T180000Z
LOCATION:Gasthaus Belfort\, Mindelheimer Straße 35\, 87600 Kaufbeuren
SEQUENCE:0
SUMMARY:ADFC-Stammtisch mit Vortrag Rechte+Pflichten
UID:a59df9a2-22cc-4270-b678-15cceb29e395
URL:https://touren-termine.adfc.de/radveranstaltung/114819-adfcstammtisch-
 mit-vortrag-rechtepflichten
END:VEVENT
END:VCALENDAR
