BEGIN:VCALENDAR
PRODID:-//github.com/rianjs/ical.net//NONSGML ical.net 4.0//EN
VERSION:2.0
BEGIN:VEVENT
DESCRIPTION:Euer ADFC-TourGuide Zertifikat läuft bald aus? Bringt euch mit
  frischem Wissen auf den neuesten Stand. Hier könnt ihr euer TourGuide-Ze
 rtifikat um weitere 3 Jahre verlängern.\nhttps://touren-termine.adfc.de/r
 adveranstaltung/169276--adfc-tourguide-refreshseminar-gps
DTEND:20260117T160000Z
DTSTAMP:20260424T173054Z
DTSTART:20260117T090000Z
LOCATION:ADFC Berlin Velokiez\, Möckernstraße 47\, 10963 Berlin
SEQUENCE:0
SUMMARY: ADFC TourGuide Refresh-Seminar - GPS
UID:01edebc0-1fc8-4b37-8b31-55bb0e0607b2
URL:https://touren-termine.adfc.de/radveranstaltung/169276--adfc-tourguide
 -refreshseminar-gps
END:VEVENT
END:VCALENDAR
