BEGIN:VCALENDAR
PRODID:-//github.com/rianjs/ical.net//NONSGML ical.net 4.0//EN
VERSION:2.0
BEGIN:VEVENT
DESCRIPTION:Das Ziel der Tour wird zu Beginn bekanntgegeben. Anschließend 
 Gelegenheit zur gemeinsamen Einkehr.\nhttps://touren-termine.adfc.de/radv
 eranstaltung/150764-feierabendtour
DTEND:20250404T160000Z
DTSTAMP:20260421T101108Z
DTSTART:20250404T160000Z
LOCATION: Rheidt\, kath. Kirche\, Hoher Rain 27\, 53859 Niederkassel
SEQUENCE:0
SUMMARY:Feierabendtour
UID:dcd56bca-bc33-4522-a0c4-5d242db21591
URL:https://touren-termine.adfc.de/radveranstaltung/150764-feierabendtour
END:VEVENT
END:VCALENDAR
