BEGIN:VCALENDAR
PRODID:-//github.com/rianjs/ical.net//NONSGML ical.net 4.0//EN
VERSION:2.0
BEGIN:VEVENT
DESCRIPTION:Kennst du die höchste Erhebung Berlins und das letzte Dorf auf
  Berliner Stadtgebiet\, das ringsum von Feldern umgeben ist ?\nDann komm 
 mit nach Arkenberge und Blankenfelde.\nEinkehrmöglichkeit vorhd.\nhttps:/
 /touren-termine.adfc.de/radveranstaltung/132524-tour-in-den-norden-von-pa
 nkow-start-zuhlsdorf
DTEND:20240615T140000Z
DTSTAMP:20260425T020629Z
DTSTART:20240615T090000Z
LOCATION:Zühlsdorf\, Kirche\, Dorfstraße\, 16515 Mühlenbecker Land
SEQUENCE:0
SUMMARY:Tour in den Norden von Pankow (Start Zühlsdorf)
UID:e3063527-8383-49fd-bebb-bef9ab9af0e6
URL:https://touren-termine.adfc.de/radveranstaltung/132524-tour-in-den-nor
 den-von-pankow-start-zuhlsdorf
END:VEVENT
END:VCALENDAR
