BEGIN:VCALENDAR
PRODID:-//github.com/rianjs/ical.net//NONSGML ical.net 4.0//EN
VERSION:2.0
BEGIN:VEVENT
DESCRIPTION:Dienstags & Donnerstags zwischen 18:00 und 20:00 Uhr kann dort
  jeder\, sein Fahrrad eigenverantwortlich selbst reparieren - wenn nötig 
 unter Anleitung oder Mithilfe unsere Werkstattteams\nhttps://touren-termi
 ne.adfc.de/radveranstaltung/176027-selbsthilfewerkstatt-ist-geoffnet
DTEND:20261119T190000Z
DTSTAMP:20260424T150409Z
DTSTART:20261119T170000Z
LOCATION:Weinweg 2\, 93049 Regensburg
SEQUENCE:0
SUMMARY:Selbsthilfewerkstatt ist geöffnet
UID:fb10d6ab-1dd7-40ee-b265-e6eb0802fd89
URL:https://touren-termine.adfc.de/radveranstaltung/176027-selbsthilfewerk
 statt-ist-geoffnet
END:VEVENT
END:VCALENDAR
