BEGIN:VCALENDAR
PRODID:-//github.com/rianjs/ical.net//NONSGML ical.net 4.0//EN
VERSION:2.0
BEGIN:VEVENT
DESCRIPTION:Radtour von Ehningen über Weil der Stadt\, Leonberg und Ditzin
 gen nach Feuerbach\nhttps://touren-termine.adfc.de/radveranstaltung/15180
 4-von-ehningen-nach-feuerbach
DTEND:20250119T160000Z
DTSTAMP:20260424T144118Z
DTSTART:20250119T084500Z
LOCATION:Klett-Passage\, 70173 Stuttgart
SEQUENCE:0
SUMMARY:Von Ehningen nach Feuerbach
UID:1be09619-bc17-4bdb-be60-a4d9a5409d86
URL:https://touren-termine.adfc.de/radveranstaltung/151804-von-ehningen-na
 ch-feuerbach
END:VEVENT
END:VCALENDAR
