BEGIN:VCALENDAR
PRODID:-//github.com/rianjs/ical.net//NONSGML ical.net 4.0//EN
VERSION:2.0
BEGIN:VEVENT
DESCRIPTION:Zum Ausklang der Radsaison und der ADFC Aktivitäten lädt der A
 DFC Neumünster und Umgebung alle Mitglieder zu einem gemütlichen Treffen 
 und Bingo-Spiel ein.\nDetails folgen Anfang November\nhttps://touren-term
 ine.adfc.de/radveranstaltung/196946-jahresabschlusstreffen-und-essen
DTEND:20261202T210000Z
DTSTAMP:20260421T073837Z
DTSTART:20261202T170000Z
LOCATION:Domagkstraße 64\, 24537 Neumünster
SEQUENCE:0
SUMMARY:Jahresabschluss-Treffen und Essen
UID:51abecbe-9e42-4583-9611-3584a0fff221
URL:https://touren-termine.adfc.de/radveranstaltung/196946-jahresabschluss
 treffen-und-essen
END:VEVENT
END:VCALENDAR
