BEGIN:VCALENDAR
PRODID:-//github.com/rianjs/ical.net//NONSGML ical.net 4.0//EN
VERSION:2.0
BEGIN:VEVENT
DESCRIPTION:Start: Pavillion Schmölderpark\, 01.10.2023\, 10:00 Uhr.\nhttp
 s://touren-termine.adfc.de/radveranstaltung/106956-vom-schmolderpark-nach
 -willich-und-zuruck
DTEND:20231001T120000Z
DTSTAMP:20260420T232102Z
DTSTART:20231001T080000Z
LOCATION:Schmölderstraße\, 41239 Mönchengladbach
SEQUENCE:0
SUMMARY:Vom Schmölderpark nach Willich und zurück
UID:02436c3d-73f0-4aec-9736-58b69387747f
URL:https://touren-termine.adfc.de/radveranstaltung/106956-vom-schmolderpa
 rk-nach-willich-und-zuruck
END:VEVENT
END:VCALENDAR
