BEGIN:VCALENDAR
PRODID:-//github.com/rianjs/ical.net//NONSGML ical.net 4.0//EN
VERSION:2.0
BEGIN:VEVENT
DESCRIPTION:Vorbei am Rosarium in Hattersheim geht es zu den Weilbacher Ki
 esgruben zur Mittagspause im Restaurant Wilder Esel. Zurück über Frankfur
 t-Höchst und Schwanheim. Anmeldung notwendig.\nhttps://touren-termine.adf
 c.de/radveranstaltung/122787-zum-regionalpark-weilbacher-kiesgruben
DTEND:20240728T150000Z
DTSTAMP:20260423T192701Z
DTSTART:20240728T080000Z
LOCATION:Lindenplatz\, 63303 Sprendlingen
SEQUENCE:0
SUMMARY:Zum Regionalpark Weilbacher Kiesgruben
UID:f54b72c2-370f-42ce-ad6c-096eedd3dd2e
URL:https://touren-termine.adfc.de/radveranstaltung/122787-zum-regionalpar
 k-weilbacher-kiesgruben
END:VEVENT
END:VCALENDAR
