BEGIN:VCALENDAR
PRODID:-//github.com/rianjs/ical.net//NONSGML ical.net 4.0//EN
VERSION:2.0
BEGIN:VEVENT
DESCRIPTION:Podiumsgespräch - Einsteigen: Damit die Verkehrswende gelingt\
 nhttps://touren-termine.adfc.de/radveranstaltung/128371-forum-verkehrswen
 de
DTEND:20240320T200000Z
DTSTAMP:20260421T235910Z
DTSTART:20240320T180000Z
LOCATION:Willy-Brandt-Platz 1\, 59065 Hamm
SEQUENCE:0
SUMMARY:Forum Verkehrswende
UID:236cf691-aad7-41ff-89c2-2677b094f831
URL:https://touren-termine.adfc.de/radveranstaltung/128371-forum-verkehrsw
 ende
END:VEVENT
END:VCALENDAR
