BEGIN:VCALENDAR
PRODID:-//github.com/rianjs/ical.net//NONSGML ical.net 4.0//EN
VERSION:2.0
BEGIN:VEVENT
DESCRIPTION:Codierung von Rädern schreckt Diebe ab und bringt wiedergefund
 ene Räder zurück. Bitte Personalausweis\, Fahrrad und (möglichst) Eigentu
 msnachweis mitbringen (ggf. auch ADFC Ausweis).\nhttps://touren-termine.a
 dfc.de/radveranstaltung/192682-fahrraddiebstahlschutz-durch-codierung
DTEND:20260502T100000Z
DTSTAMP:20260419T163108Z
DTSTART:20260502T070000Z
LOCATION:2-Rad Bucheli\, Wasserburger Straße 15\, 83135 Landkreis Rosenheim
SEQUENCE:0
SUMMARY:Fahrrad-Diebstahlschutz durch Codierung
UID:d8476c02-0bbc-49ea-9de5-f19affee1215
URL:https://touren-termine.adfc.de/radveranstaltung/192682-fahrraddiebstah
 lschutz-durch-codierung
END:VEVENT
END:VCALENDAR
