BEGIN:VCALENDAR
PRODID:-//github.com/rianjs/ical.net//NONSGML ical.net 4.0//EN
VERSION:2.0
BEGIN:VEVENT
DESCRIPTION:Die Kidical Mass Essen demonstriert seit 2019 für sichere Radw
 ege für Kinder und Jugendliche. Ziel der Demonstrationen ist auch die Ver
 besserung der Radwege\nhttps://touren-termine.adfc.de/radveranstaltung/15
 1148-kidical-mass-die-kinderfahrraddemo
DTEND:20250628T103000Z
DTSTAMP:20260419T182056Z
DTSTART:20250628T090000Z
LOCATION:vor der Grugahalle\, Messeplatz 2\, 45131 Essen
SEQUENCE:0
SUMMARY:Kidical Mass – Die Kinder-Fahrrad-Demo
UID:8155b82a-5ab4-488f-b148-90e5ba15482e
URL:https://touren-termine.adfc.de/radveranstaltung/151148-kidical-mass-di
 e-kinderfahrraddemo
END:VEVENT
END:VCALENDAR
