BEGIN:VCALENDAR
PRODID:-//github.com/rianjs/ical.net//NONSGML ical.net 4.0//EN
VERSION:2.0
BEGIN:VEVENT
DESCRIPTION:„Eine entspannte Runde ab Krugzell über Altusried\, Maria Stei
 nbach\, Lautrach und Bad Grönenbach zurück ins Illertal.“\nhttps://touren
 -termine.adfc.de/radveranstaltung/191160-entspannte-allgaurunde-ab-krugze
 ll
DTEND:20260419T140000Z
DTSTAMP:20260424T151333Z
DTSTART:20260419T080000Z
LOCATION:Floßlände\, 87452 Altusried
SEQUENCE:0
SUMMARY:Entspannte Allgäu-Runde ab Krugzell
UID:a9ecb906-170a-4048-aa7e-46b0e8a94202
URL:https://touren-termine.adfc.de/radveranstaltung/191160-entspannte-allg
 aurunde-ab-krugzell
END:VEVENT
END:VCALENDAR
