BEGIN:VCALENDAR
PRODID:-//github.com/rianjs/ical.net//NONSGML ical.net 4.0//EN
VERSION:2.0
BEGIN:VEVENT
DESCRIPTION:regelmäßiges Quartals-Treffen\nhttps://touren-termine.adfc.de/
 radveranstaltung/196785-treffen-der-regionalgruppe-dahmespreewald
DTEND:20260413T180000Z
DTSTAMP:20260421T113435Z
DTSTART:20260413T160000Z
LOCATION:Sophien-Stübchen\, Kirchplatz 4\, 15711 Königs Wusterhausen
SEQUENCE:0
SUMMARY:Treffen der Regionalgruppe Dahme-Spreewald
UID:851cc8b4-89d6-4c78-ad45-3e3e2d51a112
URL:https://touren-termine.adfc.de/radveranstaltung/196785-treffen-der-reg
 ionalgruppe-dahmespreewald
END:VEVENT
END:VCALENDAR
