BEGIN:VCALENDAR
PRODID:-//github.com/rianjs/ical.net//NONSGML ical.net 4.0//EN
VERSION:2.0
BEGIN:VEVENT
DESCRIPTION:Es werden Themen rund ums Rad (Radtouren\, Verkehrspolitik\, V
 erein\, Technik) besprochen. Gäste sind herzlich willkommen.\nhttps://tou
 ren-termine.adfc.de/radveranstaltung/187436-monatliches-treffen-13-mai-th
 aers-wirtshaus
DTEND:20260513T193000Z
DTSTAMP:20260421T113813Z
DTSTART:20260513T163000Z
LOCATION:Thaerplatz 1\, 29221 Celle
SEQUENCE:0
SUMMARY:Monatliches Treffen\, 13 Mai (Thaers Wirtshaus)
UID:72dd6f8b-90a1-4e27-b489-9c5085cbbdae
URL:https://touren-termine.adfc.de/radveranstaltung/187436-monatliches-tre
 ffen-13-mai-thaers-wirtshaus
END:VEVENT
END:VCALENDAR
