BEGIN:VCALENDAR
PRODID:-//github.com/rianjs/ical.net//NONSGML ical.net 4.0//EN
VERSION:2.0
BEGIN:VEVENT
DESCRIPTION:Könige\, Kurfürsten und Kunstschaffende wissen\, wo es besonde
 rs schön ist. Das beweist die Rundtour durch und um die Landeshauptstadt 
 Potsdam eindrucksvoll.\nhttps://touren-termine.adfc.de/radveranstaltung/1
 97871-bioradtour-wasser-und-weitblick
DTEND:20261003T160000Z
DTSTAMP:20260424T190017Z
DTSTART:20261003T080000Z
LOCATION:Bhf. Berlin Wannsee\, Vorplatz (Kronprinzessinnenweg)\, 14109 Ber
 lin
SEQUENCE:0
SUMMARY:Bio-Radtour - Wasser und Weitblick
UID:92bd4c05-e2fd-47fc-a5d6-f2a7fb63e06b
URL:https://touren-termine.adfc.de/radveranstaltung/197871-bioradtour-wass
 er-und-weitblick
END:VEVENT
END:VCALENDAR
