BEGIN:VCALENDAR
PRODID:-//github.com/rianjs/ical.net//NONSGML ical.net 4.0//EN
VERSION:2.0
BEGIN:VEVENT
DESCRIPTION:Der Mountainbikeklassiker im Naturpark Stromberg-Heuchelberg: 
 Auf wenig befahrenen Trails über die Höhen des Strombergs\, die Natur und
  die Ausblicke in die Ferne genießen.\nhttps://touren-termine.adfc.de/rad
 veranstaltung/86724-der-strombergrennweg-im-herbst
DTEND:20230924T150000Z
DTSTAMP:20260425T194337Z
DTSTART:20230924T073000Z
LOCATION:Kuhriosum (Kronenplatz)\, 74321 Bietigheim-Bissingen
SEQUENCE:0
SUMMARY:Der Stromberg-Rennweg im Herbst
UID:831b21b9-c13c-4564-b502-0c63d6c2e7b5
URL:https://touren-termine.adfc.de/radveranstaltung/86724-der-strombergren
 nweg-im-herbst
END:VEVENT
END:VCALENDAR
