BEGIN:VCALENDAR
PRODID:-//github.com/rianjs/ical.net//NONSGML ical.net 4.0//EN
VERSION:2.0
BEGIN:VEVENT
DESCRIPTION:Leichte bis mittelschwere Feierabendtour in und um Vaihingen\n
 https://touren-termine.adfc.de/radveranstaltung/95389-vaihinger-abendtour
DTEND:20230601T190000Z
DTSTAMP:20260424T143216Z
DTSTART:20230601T160000Z
LOCATION:Vollmoellerstraße\, 70563 Stuttgart
SEQUENCE:0
SUMMARY:Vaihinger Abendtour
UID:5307868d-7934-44b8-b1e2-d1ac4c563fdc
URL:https://touren-termine.adfc.de/radveranstaltung/95389-vaihinger-abendt
 our
END:VEVENT
END:VCALENDAR
