BEGIN:VCALENDAR
PRODID:-//github.com/rianjs/ical.net//NONSGML ical.net 4.0//EN
VERSION:2.0
BEGIN:VEVENT
DESCRIPTION:Jeden Montag findet morgens eine Radtour statt.\nhttps://toure
 n-termine.adfc.de/radveranstaltung/177329-montag-morgen-tour
DTEND:20251222T110000Z
DTSTAMP:20260423T201221Z
DTSTART:20251222T090000Z
LOCATION:In der Ahe 29\, 27356 Rotenburg
SEQUENCE:0
SUMMARY:Montag Morgen Tour
UID:2920e696-173d-4498-9a60-ae9c4afd080b
URL:https://touren-termine.adfc.de/radveranstaltung/177329-montag-morgen-t
 our
END:VEVENT
END:VCALENDAR
