BEGIN:VCALENDAR
PRODID:-//github.com/rianjs/ical.net//NONSGML ical.net 4.0//EN
VERSION:2.0
BEGIN:VEVENT
DESCRIPTION:Kurztrip für Schnellentschlossene und gemütliche Radler von Ko
 lbermoor über Mietraching\, Weihenlinden nach Hinrichssegen und an der Ma
 ngfall entlang zurück nach Kolbermoor\nhttps://touren-termine.adfc.de/rad
 veranstaltung/196990-kurztrip-kolbermoor-hinrichssegen
DTEND:20260407T160000Z
DTSTAMP:20260419T193933Z
DTSTART:20260407T140000Z
LOCATION:Parkplatz Alter Friedhof\, Kolbermoor\, 83059 Kolbermoor
SEQUENCE:0
SUMMARY:Kurztrip Kolbermoor - Hinrichssegen
UID:8a433739-d1d4-49de-9666-70b4be1a9fbb
URL:https://touren-termine.adfc.de/radveranstaltung/196990-kurztrip-kolber
 moor-hinrichssegen
END:VEVENT
END:VCALENDAR
