BEGIN:VCALENDAR
PRODID:-//github.com/rianjs/ical.net//NONSGML ical.net 4.0//EN
VERSION:2.0
BEGIN:VEVENT
DESCRIPTION:Flotte Tagestour (18-20 km/h) ins Grenzgebiet Niederlande/Deut
 schland.\nTreffpunkt Haarmühle. Infos und Anmeldung bei Ludger Rütter 024
 51 / 83139\nhttps://touren-termine.adfc.de/radveranstaltung/111770-ins-gr
 enzgebiet-nld-buurserzandhaaksbergen
DTEND:20240811T150000Z
DTSTAMP:20260419T233619Z
DTSTART:20240811T090000Z
LOCATION:Beßlinghook\, 48683 Ahaus
SEQUENCE:0
SUMMARY:Ins Grenzgebiet NL/D: „Buurserzand“/Haaksbergen
UID:51037c73-2b43-4a20-830c-9f62f1b1c0b9
URL:https://touren-termine.adfc.de/radveranstaltung/111770-ins-grenzgebiet
 -nld-buurserzandhaaksbergen
END:VEVENT
END:VCALENDAR
