BEGIN:VCALENDAR
PRODID:-//github.com/rianjs/ical.net//NONSGML ical.net 4.0//EN
VERSION:2.0
BEGIN:VEVENT
DESCRIPTION:Vor dem Radlerstammtisch treffen sich die Aktiven und die Vors
 tandschaft.\nhttps://touren-termine.adfc.de/radveranstaltung/174089-aktiv
 entreff
DTEND:20260108T180000Z
DTSTAMP:20260419T155837Z
DTSTART:20260108T170000Z
LOCATION:Gasthaus Belfort\, Mindelheimer Straße 35\, 87600 Kaufbeuren
SEQUENCE:0
SUMMARY:Aktiventreff
UID:f6bcddee-0dad-4e57-b751-b39b731fd357
URL:https://touren-termine.adfc.de/radveranstaltung/174089-aktiventreff
END:VEVENT
END:VCALENDAR
