BEGIN:VCALENDAR
PRODID:-//github.com/rianjs/ical.net//NONSGML ical.net 4.0//EN
VERSION:2.0
BEGIN:VEVENT
DESCRIPTION:Wir besuchen den höchsten Punkt Kölns\, der Monte Troodelöh (1
 18 m) genannt wird und im Königsforst liegt. Wer mag\, trägt sich in das 
 Gipfelbuch ein\, Erholung bei der anschließenden Einkehr.\nhttps://touren
 -termine.adfc.de/radveranstaltung/137266-auf-den-monte-troodeloh
DTEND:20240818T090000Z
DTSTAMP:20260421T101253Z
DTSTART:20240818T090000Z
LOCATION:Rheidt kath. Kirche\, Hoher Rain 27\, 53859 Niederkassel
SEQUENCE:0
SUMMARY:Auf den Monte Troodelöh
UID:1778a08f-cd7a-41ca-9379-8bd788dc5925
URL:https://touren-termine.adfc.de/radveranstaltung/137266-auf-den-monte-t
 roodeloh
END:VEVENT
END:VCALENDAR
