BEGIN:VCALENDAR
PRODID:-//github.com/rianjs/ical.net//NONSGML ical.net 4.0//EN
VERSION:2.0
BEGIN:VEVENT
DESCRIPTION:Termin am Wochenende! Für Eltern und Großeltern mit Kinderrada
 nhänger und Kindern im Kinderradanhänger.\nWir fahren zu Spielplätzen und
  zu für Kinder interessante Spots. Anmeldung bis 11.09.2026.\nhttps://tou
 ren-termine.adfc.de/radveranstaltung/179296-elternkindradeln-mit-radanhan
 ger
DTEND:20260912T110000Z
DTSTAMP:20260419T191835Z
DTSTART:20260912T070000Z
LOCATION:Bahnhofsvorplatz\, 87600 Kaufbeuren
SEQUENCE:0
SUMMARY:Eltern-Kind-Radeln mit Radanhänger
UID:8ae4dc5c-7445-4dd8-aaa4-25a88d3e3f06
URL:https://touren-termine.adfc.de/radveranstaltung/179296-elternkindradel
 n-mit-radanhanger
END:VEVENT
END:VCALENDAR
