BEGIN:VCALENDAR
PRODID:-//github.com/rianjs/ical.net//NONSGML ical.net 4.0//EN
VERSION:2.0
BEGIN:VEVENT
DESCRIPTION:Eine fordernde Radtour von Göttingen an Witzenhausen vorbei üb
 er Ziegenhagen zur Schutzhütte Fress-Eiche\nhttps://touren-termine.adfc.d
 e/radveranstaltung/185939-zur-schutzhutte-fresseiche-im-sandwald
DTEND:20260726T160000Z
DTSTAMP:20260425T014854Z
DTSTART:20260726T070000Z
LOCATION:ADFC-Werkstatt\, Güterbahnhofstraße 9\, 37073 Göttingen
SEQUENCE:0
SUMMARY:Zur Schutzhütte Fress-Eiche im Sandwald
UID:949c591f-32dc-4225-8648-22f38990146f
URL:https://touren-termine.adfc.de/radveranstaltung/185939-zur-schutzhutte
 -fresseiche-im-sandwald
END:VEVENT
END:VCALENDAR
