BEGIN:VCALENDAR
PRODID:-//github.com/rianjs/ical.net//NONSGML ical.net 4.0//EN
VERSION:2.0
BEGIN:VEVENT
DESCRIPTION:Das Ziel der Tour wird zu Beginn bekanntgegeben. Anschließend 
 Gelegenheit zur gemeinsamen Einkehr.\nhttps://touren-termine.adfc.de/radv
 eranstaltung/119594-feierabendtour
DTEND:20240607T180000Z
DTSTAMP:20260421T101108Z
DTSTART:20240607T160000Z
LOCATION: Rheidt\, kath. Kirche\, 53859 Niederkassel
SEQUENCE:0
SUMMARY:Feierabendtour
UID:cf706bfa-85a2-4941-b85a-32c55614f15b
URL:https://touren-termine.adfc.de/radveranstaltung/119594-feierabendtour
END:VEVENT
END:VCALENDAR
