BEGIN:VCALENDAR
PRODID:-//github.com/rianjs/ical.net//NONSGML ical.net 4.0//EN
VERSION:2.0
BEGIN:VEVENT
DESCRIPTION:Tagestour 60 km 1000 hm über kleine Straßen und Waldwege. Fahl
 enscheid\, Hofkühl\, Waldenburger Bucht\, Attendorn\, Olpe entlang der Bi
 gge und Thieringhausen. Einkehr. 2.Akku oder Ladegerät. Anmeldung\nhttps:
 //touren-termine.adfc.de/radveranstaltung/197127-pedelectour-attendorn-bi
 ggeblick
DTEND:20260407T150000Z
DTSTAMP:20260422T234124Z
DTSTART:20260407T080000Z
LOCATION:Marburgerstraße\, Roter Platz\, 57223 Kreuztal
SEQUENCE:0
SUMMARY:Pedelec-Tour Attendorn Biggeblick
UID:4f5b1ccd-8d5a-44f3-bdd4-555262d77674
URL:https://touren-termine.adfc.de/radveranstaltung/197127-pedelectour-att
 endorn-biggeblick
END:VEVENT
END:VCALENDAR
