BEGIN:VCALENDAR
PRODID:-//github.com/rianjs/ical.net//NONSGML ical.net 4.0//EN
VERSION:2.0
BEGIN:VEVENT
DESCRIPTION:Eine Rundtour zur KüllsbergsHütte in Harle und über die Kartha
 use und Wagenfurth zurück nach Melsungen.\nhttps://touren-termine.adfc.de
 /radveranstaltung/198220-eine-panoramareiche-rundtour-zur-kullsbergshutte
DTEND:20260705T143000Z
DTSTAMP:20260421T193620Z
DTSTART:20260705T080000Z
LOCATION:ADFC-Schaukasten Brückenstraße/Ecke Flämmergasse\, 34212 Melsungen
SEQUENCE:0
SUMMARY:Eine panoramareiche Rundtour zur Küllsbergs-Hütte
UID:58932a41-f26c-4115-91cc-10cf6779c9a9
URL:https://touren-termine.adfc.de/radveranstaltung/198220-eine-panoramare
 iche-rundtour-zur-kullsbergshutte
END:VEVENT
END:VCALENDAR
