BEGIN:VCALENDAR
PRODID:-//github.com/rianjs/ical.net//NONSGML ical.net 4.0//EN
VERSION:2.0
BEGIN:VEVENT
DESCRIPTION:Lust auf eine Feierabendrunde mit etwas mehr Schwung?\nUnsere 
 Feierabendtour richtet sich an alle\, die gerne ein bisschen zügiger fahr
 en\, ohne gleich eine Rennradausfahrt daraus zu machen.\nhttps://touren-t
 ermine.adfc.de/radveranstaltung/184818-gravel-freitag-tour
DTEND:20260619T193000Z
DTSTAMP:20260421T005644Z
DTSTART:20260619T160000Z
LOCATION:Stadeum\, Schiffertorsstraße 6\, 21682 Stade
SEQUENCE:0
SUMMARY:Gravel Freitag Tour
UID:fccc16a0-8100-4101-bc94-537644d74b55
URL:https://touren-termine.adfc.de/radveranstaltung/184818-gravel-freitag-
 tour
END:VEVENT
END:VCALENDAR
