BEGIN:VCALENDAR
PRODID:-//github.com/rianjs/ical.net//NONSGML ical.net 4.0//EN
VERSION:2.0
BEGIN:VEVENT
DESCRIPTION:Dienstags & Donnerstags zwischen 18:00 und 20:00 Uhr kann dort
  jeder\, sein Fahrrad eigenverantwortlich selbst reparieren - wenn nötig 
 unter Anleitung oder Mithilfe unsere Werkstattteams\nhttps://touren-termi
 ne.adfc.de/radveranstaltung/155527-selbsthilfewerkstatt-ist-geoffnet
DTEND:20260124T180000Z
DTSTAMP:20260424T151224Z
DTSTART:20250429T160000Z
LOCATION:ADFC-Selbsthilfewerkstatt\, Weinweg 6\, 93049 Regensburg
SEQUENCE:0
SUMMARY:Selbsthilfewerkstatt ist geöffnet
UID:9dc1498a-b15a-49da-95b8-a24ab245184f
URL:https://touren-termine.adfc.de/radveranstaltung/155527-selbsthilfewerk
 statt-ist-geoffnet
END:VEVENT
END:VCALENDAR
