BEGIN:VCALENDAR
PRODID:-//github.com/rianjs/ical.net//NONSGML ical.net 4.0//EN
VERSION:2.0
BEGIN:VEVENT
DESCRIPTION:Unsere Geschäftsstelle ist für alle Anliegen und offenen Frage
 n geöffnet.\nhttps://touren-termine.adfc.de/radveranstaltung/183850-offnu
 ngszeit-unserer-geschaftsstelle
DTEND:20260910T160000Z
DTSTAMP:20260421T115926Z
DTSTART:20260910T140000Z
LOCATION:Essen (Innenstadt)\, ADFC Essen Geschäftsstelle\, Rottstraße 5\, 
 45127 Essen
SEQUENCE:0
SUMMARY:Öffnungszeit unserer Geschäftsstelle
UID:b896a8d5-9a2b-47a4-8327-bc035a2f8803
URL:https://touren-termine.adfc.de/radveranstaltung/183850-offnungszeit-un
 serer-geschaftsstelle
END:VEVENT
END:VCALENDAR
