BEGIN:VCALENDAR
PRODID:-//github.com/rianjs/ical.net//NONSGML ical.net 4.0//EN
VERSION:2.0
BEGIN:VEVENT
DESCRIPTION:ca. 70 km\, 16-18 km/h\, Start: Parkplatz Schloss Rheydt\, 31.
 03.2024\, 10:00 Uhr. Von Schloss Rheydt über Kaarst über die Südbrücke mi
 t Einkehrmöglichkeiten im Düsseldorfer Hafen und zurück zum Schloss.\nhtt
 ps://touren-termine.adfc.de/radveranstaltung/118376-rheydt-medienhafen-du
 sseldorf-rheydt
DTEND:20240331T140000Z
DTSTAMP:20260420T231802Z
DTSTART:20240331T080000Z
LOCATION:Ritterstraße\, 41238 Mönchengladbach
SEQUENCE:0
SUMMARY:Rheydt - Medienhafen Düsseldorf - Rheydt
UID:ed1e1c01-ee1f-4771-a614-532f79de2078
URL:https://touren-termine.adfc.de/radveranstaltung/118376-rheydt-medienha
 fen-dusseldorf-rheydt
END:VEVENT
END:VCALENDAR
