BEGIN:VCALENDAR
PRODID:-//github.com/rianjs/ical.net//NONSGML ical.net 4.0//EN
VERSION:2.0
BEGIN:VEVENT
DESCRIPTION:9. Demo für sicheren Verkehr auf der Marienfelder Allee. Wir f
 ordern einen Radweg und Flächengerechtigkeit für alle Verkehrsteilnehmer:
 innen. Schluss mit der Bevorzugung des motorisierten Verkehrs!\nhttps://t
 ouren-termine.adfc.de/radveranstaltung/174124-demo-fur-sicheren-verkehr-i
 n-marienfelde
DTEND:20251122T143000Z
DTSTAMP:20260424T050238Z
DTSTART:20251122T130000Z
LOCATION:Marienfelder Allee 107/109\, vor der Bibliothek Marienfelde\, 122
 79 Berlin
SEQUENCE:0
SUMMARY:Demo für sicheren Verkehr in Marienfelde
UID:c6841d88-a0b7-4dd1-b914-29816694a4b9
URL:https://touren-termine.adfc.de/radveranstaltung/174124-demo-fur-sicher
 en-verkehr-in-marienfelde
END:VEVENT
END:VCALENDAR
