BEGIN:VCALENDAR
PRODID:-//github.com/rianjs/ical.net//NONSGML ical.net 4.0//EN
VERSION:2.0
BEGIN:VEVENT
DESCRIPTION:Stammtisch zum Austausch für Mitglieder - auch Rad-Interessier
 te sind herzlich willkommen. \n\nDieses Mal sind wir im indischen Restaur
 ant "Maharaja"\, Winzinger Str. 61\, 67433 Neustadt an der Weinstraße\nht
 tps://touren-termine.adfc.de/radveranstaltung/176482-stammtisch-adfc-neus
 tadt-hassloch-27112025
DTEND:20251127T200000Z
DTSTAMP:20260425T173534Z
DTSTART:20251127T170000Z
LOCATION:Winzinger Straße 61\, 67433 Neustadt an der Weinstraße
SEQUENCE:0
SUMMARY:Stammtisch ADFC Neustadt / Haßloch - 27.11.2025
UID:6eeb0a8b-a420-4e92-89ae-fb6d83937262
URL:https://touren-termine.adfc.de/radveranstaltung/176482-stammtisch-adfc
 -neustadt-hassloch-27112025
END:VEVENT
END:VCALENDAR
