BEGIN:VCALENDAR
PRODID:-//github.com/rianjs/ical.net//NONSGML ical.net 4.0//EN
VERSION:2.0
BEGIN:VEVENT
DESCRIPTION:Ab Sonthofen: Dieses landschaftlich wunderschöne Tal muss man 
 einfach gesehen haben. Startzeit wird bei Anmeldung mitgeteilt. Helmpflic
 ht. Anmeldung bis 17.06.24\nhttps://touren-termine.adfc.de/radveranstaltu
 ng/115504-ab-sf-hinterstein-bis-giebelhaus-hutteneinkehr
DTEND;VALUE=DATE:20240620
DTSTAMP:20260425T153724Z
DTSTART;VALUE=DATE:20240620
LOCATION:Bahnhofsplatz\, 87527 Sonthofen
SEQUENCE:0
SUMMARY:Ab SF: Hinterstein bis Giebelhaus\, Hütteneinkehr
UID:e984bedb-9dc4-46b9-ba81-64a329d36b1a
URL:https://touren-termine.adfc.de/radveranstaltung/115504-ab-sf-hinterste
 in-bis-giebelhaus-hutteneinkehr
END:VEVENT
END:VCALENDAR
