BEGIN:VCALENDAR
PRODID:-//github.com/rianjs/ical.net//NONSGML ical.net 4.0//EN
VERSION:2.0
BEGIN:VEVENT
DESCRIPTION:Der Mountainbikeklassiker im Naturpark Stromberg-Heuchelberg: 
 Auf wenig befahrenen Trails geht es über die Höhen des Strombergs\, von w
 o aus wir Natur und Ausblicke in die Ferne genießen.\nhttps://touren-term
 ine.adfc.de/radveranstaltung/114821-der-strombergrennweg-im-herbst
DTEND:20241020T150000Z
DTSTAMP:20260425T194337Z
DTSTART:20241020T070000Z
LOCATION:Kuhriosum (Kronenplatz)\, 74321 Bietigheim-Bissingen
SEQUENCE:0
SUMMARY:Der Stromberg-Rennweg im Herbst
UID:9465a7c7-3ffa-4c0a-89ce-02a4b60b9944
URL:https://touren-termine.adfc.de/radveranstaltung/114821-der-strombergre
 nnweg-im-herbst
END:VEVENT
END:VCALENDAR
