BEGIN:VCALENDAR
PRODID:-//github.com/rianjs/ical.net//NONSGML ical.net 4.0//EN
VERSION:2.0
BEGIN:VEVENT
DESCRIPTION:Monatliches Arbeitstreffen der Radverkehrsgruppe des ADFC Köln
  am letzten Mittwoch des Monats\nhttps://touren-termine.adfc.de/radverans
 taltung/198892-radverkehrsgruppe-adfc-koln
DTEND:20261028T193000Z
DTSTAMP:20260423T075939Z
DTSTART:20261028T180000Z
LOCATION:ADFC Köln\, Mauritiussteinweg 11\, 50676 Köln
SEQUENCE:0
SUMMARY:Radverkehrsgruppe ADFC Köln
UID:07d06a22-a481-4ce6-b922-958da901dfdf
URL:https://touren-termine.adfc.de/radveranstaltung/198892-radverkehrsgrup
 pe-adfc-koln
END:VEVENT
END:VCALENDAR
