BEGIN:VCALENDAR
PRODID:-//github.com/rianjs/ical.net//NONSGML ical.net 4.0//EN
VERSION:2.0
BEGIN:VEVENT
DESCRIPTION:Von Bad Cannstatt aus über Esslingen zum Rotenberg und dann in
  einem großen Bogen zurück nach Bad Cannstatt\nhttps://touren-termine.adf
 c.de/radveranstaltung/136024-eine-runde-uber-den-schurwald
DTEND:20240831T150000Z
DTSTAMP:20260424T143134Z
DTSTART:20240831T070000Z
LOCATION:Kegelenstraße 12\, 70372 Stuttgart
SEQUENCE:0
SUMMARY:Eine Runde über den Schurwald
UID:cc1503d6-9600-4e7c-8bdd-74d38cb1f37f
URL:https://touren-termine.adfc.de/radveranstaltung/136024-eine-runde-uber
 -den-schurwald
END:VEVENT
END:VCALENDAR
