BEGIN:VCALENDAR
PRODID:-//github.com/rianjs/ical.net//NONSGML ical.net 4.0//EN
VERSION:2.0
BEGIN:VEVENT
DESCRIPTION:SIE kommen\, und der ADFC ist schon da! - Musik\, Spaß und Unt
 erhaltung! Radtour zum "Bissendorfer Sonntags-Markt 2025". - Hinweis: Ter
 min kann sich noch ändern\nhttps://touren-termine.adfc.de/radveranstaltun
 g/153422-radtour-zum-bissendorfer-sonntag
DTEND:20250928T153000Z
DTSTAMP:20260424T173211Z
DTSTART:20250928T113000Z
LOCATION:Zwei Abfahrten: 13:30 Rathaus/Post Langenhagen\, Marktplatz 1 / 1
 4:00 Bahnhof Kaltenweide\, 30853 Langenhagen
SEQUENCE:0
SUMMARY:Radtour zum "Bissendorfer Sonntag"ⓇⓈ
UID:5d1b00be-dd1f-4e59-8fe1-6ae951fba4e4
URL:https://touren-termine.adfc.de/radveranstaltung/153422-radtour-zum-bis
 sendorfer-sonntag
END:VEVENT
END:VCALENDAR
