BEGIN:VCALENDAR
PRODID:-//github.com/rianjs/ical.net//NONSGML ical.net 4.0//EN
VERSION:2.0
BEGIN:VEVENT
DESCRIPTION:Der Bezirksrat des ADFC Berlin e.V.  ist ein Gremium zur Koord
 inierung für die Tätigkeit der Stadtteilgruppen.\nhttps://touren-termine.
 adfc.de/radveranstaltung/189748-bezirksratssitzung
DTEND:20260528T190000Z
DTSTAMP:20260424T173211Z
DTSTART:20260528T170000Z
LOCATION:Stadtwerkstatt\, Karl-Liebknecht-Straße 11\, 10178 Berlin
SEQUENCE:0
SUMMARY:Bezirksratssitzung
UID:b654a669-29b7-4c6e-aa87-6d40d976bf80
URL:https://touren-termine.adfc.de/radveranstaltung/189748-bezirksratssitz
 ung
END:VEVENT
END:VCALENDAR
