BEGIN:VCALENDAR
PRODID:-//github.com/rianjs/ical.net//NONSGML ical.net 4.0//EN
VERSION:2.0
BEGIN:VEVENT
DESCRIPTION:Vom Brandenburger Tor geht es an Kreuzberg\, Alt-Treptow\, Rud
 ow\, Teltow und Zehlendorf vorbei zur BVG-Fährstation in Alt-Kladow. Es g
 ibt viele historische und ungewöhnliche Ecken Berlins zu entdecken.\nhttp
 s://touren-termine.adfc.de/radveranstaltung/180181-der-mauerweg-zur-kirsc
 hblute-sudliche-route
DTEND:20260418T160000Z
DTSTAMP:20260424T190318Z
DTSTART:20260418T070000Z
LOCATION:S-/U-Bhf. Brandenburger Tor\, Pariser Platz\, südl. Brunnen\, 101
 17 Berlin
SEQUENCE:0
SUMMARY:Der Mauerweg zur Kirschblüte - südliche Route
UID:3fbed267-65c2-468f-9a08-4aa68f0258d1
URL:https://touren-termine.adfc.de/radveranstaltung/180181-der-mauerweg-zu
 r-kirschblute-sudliche-route
END:VEVENT
END:VCALENDAR
