BEGIN:VCALENDAR
PRODID:-//github.com/rianjs/ical.net//NONSGML ical.net 4.0//EN
VERSION:2.0
BEGIN:VEVENT
DESCRIPTION:Radeln auf der Ozean-Route mit der ADFC Ortsgruppe Hattingen/S
 prockhövel und der  Kreisverwaltung des Ennepe-Ruhr-Kreises.\nhttps://tou
 ren-termine.adfc.de/radveranstaltung/190781-ozeanroute
DTEND:20260502T160000Z
DTSTAMP:20260421T190538Z
DTSTART:20260502T090000Z
LOCATION:Parkplatz Holschentor\, Talstraße 8\, 45525 Hattingen
SEQUENCE:0
SUMMARY:Ozean-Route
UID:0bafa803-21b4-4551-919c-82d81d6bf282
URL:https://touren-termine.adfc.de/radveranstaltung/190781-ozeanroute
END:VEVENT
END:VCALENDAR
