BEGIN:VCALENDAR
PRODID:-//github.com/rianjs/ical.net//NONSGML ical.net 4.0//EN
VERSION:2.0
BEGIN:VEVENT
DESCRIPTION:In Kooperation mit dem Hohe Mark Tourismus e.V. bietet der ADF
 C Coesfeld erstmalg ein Rundtour durch den Naturpark Hohe Mark an.\nStart
 punkt ist der P+R Parkplatz am Bahnhof Dorsten....\nhttps://touren-termin
 e.adfc.de/radveranstaltung/130966-hohe-mark-radtour-rundtour-ab-dorsten
DTEND:20240623T160000Z
DTSTAMP:20260419T233501Z
DTSTART:20240623T090000Z
LOCATION:Gelsenkirchener Straße 9 a\, 46282 Dorsten\, P+R Parkplatz Bahnho
 f Rückseite\, 46282 Dorsten
SEQUENCE:0
SUMMARY:Hohe Mark Radtour / Rundtour ab Dorsten
UID:33f6b25f-a64c-4fe6-b100-fdd098519b20
URL:https://touren-termine.adfc.de/radveranstaltung/130966-hohe-mark-radto
 ur-rundtour-ab-dorsten
END:VEVENT
END:VCALENDAR
