BEGIN:VCALENDAR
PRODID:-//github.com/rianjs/ical.net//NONSGML ical.net 4.0//EN
VERSION:2.0
BEGIN:VEVENT
DESCRIPTION:In unserem FahrSicherheitsTraining lernst Du\, selbstbewusst d
 ie Herausforderungen des Radfahrens mit dem nötigen Know-how zu meistern.
  Wer sicher unterwegs ist\, steigt auch gerne aufs Rad.\nhttps://touren-t
 ermine.adfc.de/radveranstaltung/192685-fahrsicherheitstraining-grundkurs
DTEND:20260821T160000Z
DTSTAMP:20260424T190335Z
DTSTART:20260821T130000Z
LOCATION:Trakehner Allee 6\, Parkplatz Nähe S-Bhf. Olympiastadion\, 14055 
 Berlin
SEQUENCE:0
SUMMARY:FahrSicherheitsTraining - GRUNDKURS
UID:95501f51-8ac7-44cf-858b-8455b4ce0719
URL:https://touren-termine.adfc.de/radveranstaltung/192685-fahrsicherheits
 training-grundkurs
END:VEVENT
END:VCALENDAR
