BEGIN:VCALENDAR
PRODID:-//github.com/rianjs/ical.net//NONSGML ical.net 4.0//EN
VERSION:2.0
BEGIN:VEVENT
DESCRIPTION:Feierabendtour ins  Blaue! Wohin\, steht noch nicht fest. Ansc
 hließende Einkehr optional.\nhttps://touren-termine.adfc.de/radveranstalt
 ung/136270-feierabendtour-ins-blaue
DTEND:20240709T180000Z
DTSTAMP:20260423T031105Z
DTSTART:20240709T160000Z
LOCATION:Bad Berleburg Bahnhof\, 57319 Bad Berleburg
SEQUENCE:0
SUMMARY:Feierabendtour ins Blaue
UID:0bec89ab-a5ed-4c98-bff1-98f5b48a3111
URL:https://touren-termine.adfc.de/radveranstaltung/136270-feierabendtour-
 ins-blaue
END:VEVENT
END:VCALENDAR
