BEGIN:VCALENDAR
PRODID:-//github.com/rianjs/ical.net//NONSGML ical.net 4.0//EN
VERSION:2.0
BEGIN:VEVENT
DESCRIPTION:Wir treffen uns regelmäßig am dritten Montag im Monat um gemei
 nsame Aktionen zu planen oder uns zu allgemeinen Fahrradthemen auszutausc
 hen. Komm vorbei!\nhttps://touren-termine.adfc.de/radveranstaltung/176075
 -treffen-des-jungen-adfc-berlin
DTEND:20261221T200000Z
DTSTAMP:20260420T115926Z
DTSTART:20261221T180000Z
LOCATION:Café Uebereck\, Sonntagstraße 31\, 10245 Berlin\, 10245 Berlin
SEQUENCE:0
SUMMARY:Treffen des Jungen ADFC Berlin
UID:62d8804d-2c80-4398-9253-3b0e444bb0fc
URL:https://touren-termine.adfc.de/radveranstaltung/176075-treffen-des-jun
 gen-adfc-berlin
END:VEVENT
END:VCALENDAR
