BEGIN:VCALENDAR
PRODID:-//github.com/rianjs/ical.net//NONSGML ical.net 4.0//EN
VERSION:2.0
BEGIN:VEVENT
DESCRIPTION:Öffentlicher Stammtisch des ADFC Kempten-Oberallgäu\nhttps://t
 ouren-termine.adfc.de/radveranstaltung/118632-radlerstammtisch-in-martins
 zell
DTEND:20240418T193000Z
DTSTAMP:20260424T152614Z
DTSTART:20240418T180000Z
LOCATION:IG OMa im Bahnhof Martinszell\, Oberdorfer Bahnhofstraße 7\, 8744
 8 Landkreis Oberallgäu
SEQUENCE:0
SUMMARY:Radlerstammtisch in Martinszell
UID:d0e5f395-6610-4e5a-a228-5b4dd57fbe6e
URL:https://touren-termine.adfc.de/radveranstaltung/118632-radlerstammtisc
 h-in-martinszell
END:VEVENT
END:VCALENDAR
