BEGIN:VCALENDAR
PRODID:-//github.com/rianjs/ical.net//NONSGML ical.net 4.0//EN
VERSION:2.0
BEGIN:VEVENT
DESCRIPTION:Treffen der AG Verkehr des ADFC Bochum\nhttps://touren-termine
 .adfc.de/radveranstaltung/184749-ag-verkehr
DTEND:20261203T193000Z
DTSTAMP:20260420T150320Z
DTSTART:20261203T173000Z
LOCATION:Alsenstraße 27\, 44789 Bochum
SEQUENCE:0
SUMMARY:AG Verkehr
UID:4e4c3192-2c96-466b-91c1-e8ed2bd37074
URL:https://touren-termine.adfc.de/radveranstaltung/184749-ag-verkehr
END:VEVENT
END:VCALENDAR
