BEGIN:VCALENDAR
PRODID:-//github.com/rianjs/ical.net//NONSGML ical.net 4.0//EN
VERSION:2.0
BEGIN:VEVENT
DESCRIPTION:Anmeldung bis 20. Mai 2025 erforderlich. - Veranstalter: Senio
 renbeirat / Polizei\nhttps://touren-termine.adfc.de/radveranstaltung/1649
 12-pedelecsicherheitstraining-
DTEND:20250521T110000Z
DTSTAMP:20260424T173317Z
DTSTART:20250521T070000Z
LOCATION:Parkplatz an der SCL-Sporthalle: Leibnizstraße\, 30853 Langenhagen
SEQUENCE:0
SUMMARY:Pedelec-Sicherheitstraining ⓇⓈ
UID:89f99512-7572-4c33-a8ab-9db6fea58143
URL:https://touren-termine.adfc.de/radveranstaltung/164912-pedelecsicherhe
 itstraining-
END:VEVENT
END:VCALENDAR
