BEGIN:VCALENDAR
PRODID:-//github.com/rianjs/ical.net//NONSGML ical.net 4.0//EN
VERSION:2.0
BEGIN:VEVENT
DESCRIPTION:Diese Freitagstouren werden von verschiedenen Tourguides in mi
 ttlerem Tempo (15-17 km/h) angeboten und dauern ca. 2-3 Stunden. VORAUSSE
 TZUNG: Anmeldung und Spaß am gemeinsamen Fahrradfahren.\nhttps://touren-t
 ermine.adfc.de/radveranstaltung/191288-feierabendtour
DTEND:20260724T190000Z
DTSTAMP:20260423T002540Z
DTSTART:20260724T160000Z
LOCATION:Neuenhausplatz 24\, 40699 Erkrath
SEQUENCE:0
SUMMARY:Feierabendtour
UID:e83c8236-a57a-493a-9b14-2554728dc73b
URL:https://touren-termine.adfc.de/radveranstaltung/191288-feierabendtour
END:VEVENT
END:VCALENDAR
